BEGIN:VCALENDAR
VERSION:2.0
PRODID:-//wp-events-plugin.com//7.2.3.1//EN
TZID:Europe/Paris
X-WR-TIMEZONE:Europe/Paris
BEGIN:VEVENT
UID:1@mairie-hamelet.fr
DTSTART;TZID=Europe/Paris:20230409T100000
DTEND;TZID=Europe/Paris:20230409T120000
DTSTAMP:20230405T155511Z
URL:https://www.mairie-hamelet.fr/events/chasse-aux-oeufs/
SUMMARY:Chasse aux Oeufs
DESCRIPTION:Le comité des fêtes d'Hamelet organise la chasse aux œufs. R
 endez-vous à 10h dimanche 9 avril 2023 sur la place de la mairie.\n\n
LOCATION:Place de la Mairie\, 47 rue François Deroussen\, Hamelet\, France
 \, 80800\, France
X-APPLE-STRUCTURED-LOCATION;VALUE=URI;X-ADDRESS=47 rue François Deroussen\
 , Hamelet\, France\, 80800\, France;X-APPLE-RADIUS=100;X-TITLE=Place de la
  Mairie:geo:0,0
END:VEVENT
BEGIN:VTIMEZONE
TZID:Europe/Paris
X-LIC-LOCATION:Europe/Paris
BEGIN:DAYLIGHT
DTSTART:20230326T030000
TZOFFSETFROM:+0100
TZOFFSETTO:+0200
TZNAME:CEST
END:DAYLIGHT
END:VTIMEZONE
END:VCALENDAR