BEGIN:VCALENDAR
VERSION:2.0
PRODID:-//wp-events-plugin.com//7.2.3.1//EN
TZID:Europe/Paris
X-WR-TIMEZONE:Europe/Paris
BEGIN:VEVENT
UID:5@mairie-hamelet.fr
DTSTART;TZID=Europe/Paris:20230603T073000
DTEND;TZID=Europe/Paris:20230603T163000
DTSTAMP:20230516T073638Z
URL:https://www.mairie-hamelet.fr/events/concours-a-lamericaine-de-peche-a
 -la-carpe/
SUMMARY:Concours à l'américaine de pêche à la carpe
DESCRIPTION:L'association AAPPMA Chès Brocheteux d'Hamelet organise un con
 cours à l'américaine de pêche à la carpe le Samedi 03 Juin 2023 sur in
 scription.\n\n
END:VEVENT
BEGIN:VTIMEZONE
TZID:Europe/Paris
X-LIC-LOCATION:Europe/Paris
BEGIN:DAYLIGHT
DTSTART:20230326T030000
TZOFFSETFROM:+0100
TZOFFSETTO:+0200
TZNAME:CEST
END:DAYLIGHT
END:VTIMEZONE
END:VCALENDAR