BEGIN:VCALENDAR
VERSION:2.0
PRODID:-//wp-events-plugin.com//7.2.3.1//EN
TZID:Europe/Paris
X-WR-TIMEZONE:Europe/Paris
BEGIN:VEVENT
UID:3@mairie-hamelet.fr
DTSTART;TZID=Europe/Paris:20230416T090000
DTEND;TZID=Europe/Paris:20230416T160000
DTSTAMP:20230405T155706Z
URL:https://www.mairie-hamelet.fr/events/concours-de-peche-a-truite/
SUMMARY:Concours de pêche à truite
DESCRIPTION:L'AAPPMA Chès Brocheteux organise un concours de pêche à la 
 truite sur inscription.\n\n
LOCATION:Carpodrome\, rue du Pont\, Hamelet\, France\, 80800\, France
X-APPLE-STRUCTURED-LOCATION;VALUE=URI;X-ADDRESS=rue du Pont\, Hamelet\, Fra
 nce\, 80800\, France;X-APPLE-RADIUS=100;X-TITLE=Carpodrome:geo:0,0
END:VEVENT
BEGIN:VTIMEZONE
TZID:Europe/Paris
X-LIC-LOCATION:Europe/Paris
BEGIN:DAYLIGHT
DTSTART:20230326T030000
TZOFFSETFROM:+0100
TZOFFSETTO:+0200
TZNAME:CEST
END:DAYLIGHT
END:VTIMEZONE
END:VCALENDAR