BEGIN:VCALENDAR
VERSION:2.0
PRODID:-//wp-events-plugin.com//7.2.3.1//EN
TZID:Europe/Paris
X-WR-TIMEZONE:Europe/Paris
BEGIN:VEVENT
UID:6@mairie-hamelet.fr
DTSTART;TZID=Europe/Paris:20230602T190000
DTEND;TZID=Europe/Paris:20230602T233000
DTSTAMP:20230516T084210Z
URL:https://www.mairie-hamelet.fr/events/fete-des-voisins/
SUMMARY:Fête des voisins
DESCRIPTION:Le comité des fêtes d'Hamelet organise\, en toute convivialit
 é\, la fête des voisins. Rendez-vous dans la cour de l'école le vendred
 i 2 juin 2023 à partir de 19h muni d'un petit quelque chose à partager.\
 n\n
END:VEVENT
BEGIN:VTIMEZONE
TZID:Europe/Paris
X-LIC-LOCATION:Europe/Paris
BEGIN:DAYLIGHT
DTSTART:20230326T030000
TZOFFSETFROM:+0100
TZOFFSETTO:+0200
TZNAME:CEST
END:DAYLIGHT
END:VTIMEZONE
END:VCALENDAR