BEGIN:VCALENDAR
VERSION:2.0
PRODID:-//wp-events-plugin.com//7.2.3.1//EN
TZID:Europe/Paris
X-WR-TIMEZONE:Europe/Paris
BEGIN:VEVENT
UID:4@mairie-hamelet.fr
DTSTART;TZID=Europe/Paris;VALUE=DATE:20230514
DTEND;TZID=Europe/Paris;VALUE=DATE:20230515
DTSTAMP:20230425T144657Z
URL:https://www.mairie-hamelet.fr/events/rederie-et-fete-du-village/
SUMMARY:Réderie et Fête du Village
DESCRIPTION:La réderie et la fête d'Hamelet auront lieu le dimanche 14 Ma
 i. On vous y attend nombreux !\n\n\n\n
LOCATION:Place de la Mairie\, 47 rue François Deroussen\, Hamelet\, France
 \, 80800\, France
X-APPLE-STRUCTURED-LOCATION;VALUE=URI;X-ADDRESS=47 rue François Deroussen\
 , Hamelet\, France\, 80800\, France;X-APPLE-RADIUS=100;X-TITLE=Place de la
  Mairie:geo:0,0
END:VEVENT
BEGIN:VTIMEZONE
TZID:Europe/Paris
X-LIC-LOCATION:Europe/Paris
BEGIN:DAYLIGHT
DTSTART:20230326T030000
TZOFFSETFROM:+0100
TZOFFSETTO:+0200
TZNAME:CEST
END:DAYLIGHT
END:VTIMEZONE
END:VCALENDAR